BEGIN:VCALENDAR
VERSION:2.0
PRODID:-//EarlyON Child and Family Centre
 //NONSGML Events //EN
CALSCALE:GREGORIAN
X-WR-CALNAME:EarlyON Programs
BEGIN:VEVENT
UID:30153
DTSTART;VALUE=DATE:20260508T093000
DTEND;VALUE=DATE:20260508T110000
DTSTAMP:20260423T090731Z
LOCATION:EarlyON at Stratford YMCA
DESCRIPTION:Join other children and families with preschoolers as we explore liter
SUMMARY:EarlyON at Stratford YMCA &#8211\; Explore With Us
ORGANIZER:EarlyON at Stratford YMCA
STATUS:CONFIRMED
TRANSP:OPAQUE
END:VEVENT
END:VCALENDAR
