BEGIN:VCALENDAR
VERSION:2.0
PRODID:-//EarlyON Child and Family Centre
 //NONSGML Events //EN
CALSCALE:GREGORIAN
X-WR-CALNAME:EarlyON Programs
BEGIN:VEVENT
UID:30152
DTSTART;VALUE=DATE:20260501T093000
DTEND;VALUE=DATE:20260501T110000
DTSTAMP:20260421T043417Z
LOCATION:EarlyON at Stratford YMCA
DESCRIPTION:Join other children and families with preschoolers as we explore liter
SUMMARY:EarlyON at Stratford YMCA &#8211\; Explore With Us
ORGANIZER:EarlyON at Stratford YMCA
STATUS:CONFIRMED
TRANSP:OPAQUE
END:VEVENT
END:VCALENDAR
