BEGIN:VCALENDAR
VERSION:2.0
PRODID:-//EarlyON Child and Family Centre
 //NONSGML Events //EN
CALSCALE:GREGORIAN
X-WR-CALNAME:EarlyON Programs
BEGIN:VEVENT
UID:30151
DTSTART;VALUE=DATE:20260604T140000
DTEND;VALUE=DATE:20260604T153000
DTSTAMP:20260424T205858Z
LOCATION:EarlyON at Stratford Education and Recreation Centre (SERC)
DESCRIPTION:Having a new baby is a time of change, discovery, and often many quest
SUMMARY:EarlyON at Stratford Education and Recreation Centre &#8211\; Infant Series
ORGANIZER:EarlyON at Stratford Education and Recreation Centre (SERC)
STATUS:CONFIRMED
TRANSP:OPAQUE
END:VEVENT
END:VCALENDAR
