BEGIN:VCALENDAR
VERSION:2.0
PRODID:-//EarlyON Child and Family Centre
 //NONSGML Events //EN
CALSCALE:GREGORIAN
X-WR-CALNAME:EarlyON Programs
BEGIN:VEVENT
UID:30126
DTSTART;VALUE=DATE:20260505T123000
DTEND;VALUE=DATE:20260505T140000
DTSTAMP:20260421T003141Z
LOCATION:EarlyON at Stratford YMCA
DESCRIPTION:How Does Learning Happen? Through Play! Join other children, caring ad
SUMMARY:EarlyON at Stratford YMCA &#8211\; Play and Learn
ORGANIZER:EarlyON at Stratford YMCA
STATUS:CONFIRMED
TRANSP:OPAQUE
END:VEVENT
END:VCALENDAR
