BEGIN:VCALENDAR
VERSION:2.0
PRODID:-//EarlyON Child and Family Centre
 //NONSGML Events //EN
CALSCALE:GREGORIAN
X-WR-CALNAME:EarlyON Programs
BEGIN:VEVENT
UID:30125
DTSTART;VALUE=DATE:20260525T123000
DTEND;VALUE=DATE:20260525T143000
DTSTAMP:20260421T003148Z
LOCATION:EarlyON at Stratford Education and Recreation Centre (SERC)
DESCRIPTION:A time for parents/caregivers to find support & encouragement from the
SUMMARY:EarlyON at Stratford Education and Recreation Centre &#8211\; Baby Time
ORGANIZER:EarlyON at Stratford Education and Recreation Centre (SERC)
STATUS:CONFIRMED
TRANSP:OPAQUE
END:VEVENT
END:VCALENDAR
