BEGIN:VCALENDAR
VERSION:2.0
PRODID:-//EarlyON Child and Family Centre
 //NONSGML Events //EN
CALSCALE:GREGORIAN
X-WR-CALNAME:EarlyON Programs
BEGIN:VEVENT
UID:30122
DTSTART;VALUE=DATE:20260525T100000
DTEND;VALUE=DATE:20260525T113000
DTSTAMP:20260421T003333Z
LOCATION:EarlyON at Wellesley Recreation Complex
DESCRIPTION:How Does Learning Happen? Through Play! Join other children, caring ad
SUMMARY:EarlyON at Wellesley Recreation Complex &#8211\; Drop In
ORGANIZER:EarlyON at Wellesley Recreation Complex
STATUS:CONFIRMED
TRANSP:OPAQUE
END:VEVENT
END:VCALENDAR
