BEGIN:VCALENDAR
VERSION:2.0
PRODID:-//EarlyON Child and Family Centre
 //NONSGML Events //EN
CALSCALE:GREGORIAN
X-WR-CALNAME:EarlyON Programs
BEGIN:VEVENT
UID:30116
DTSTART;VALUE=DATE:20260501T093000
DTEND;VALUE=DATE:20260501T110000
DTSTAMP:20260421T061842Z
LOCATION:EarlyON at Victoria Hills Community Centre
DESCRIPTION:How Does Learning Happen? Through Play! Join other children, caring ad
SUMMARY:EarlyON at Victoria Hills Community Centre &#8211\; Drop In
ORGANIZER:EarlyON at Victoria Hills Community Centre
STATUS:CONFIRMED
TRANSP:OPAQUE
END:VEVENT
END:VCALENDAR
