BEGIN:VCALENDAR
VERSION:2.0
PRODID:-//EarlyON Child and Family Centre
 //NONSGML Events //EN
CALSCALE:GREGORIAN
X-WR-CALNAME:EarlyON Programs
BEGIN:VEVENT
UID:30110
DTSTART;VALUE=DATE:20260519T100000
DTEND;VALUE=DATE:20260519T113000
DTSTAMP:20260421T151859Z
LOCATION:EarlyON at Hespeler Village Neighbourhood Association
DESCRIPTION:How Does Learning Happen? Through Play! Join other children, caring ad
SUMMARY:EarlyON at Hespeler Village Neighbourhood Association &#8211\; Drop In
ORGANIZER:EarlyON at Hespeler Village Neighbourhood Association
STATUS:CONFIRMED
TRANSP:OPAQUE
END:VEVENT
END:VCALENDAR
