BEGIN:VCALENDAR
VERSION:2.0
PRODID:-//EarlyON Child and Family Centre
 //NONSGML Events //EN
CALSCALE:GREGORIAN
X-WR-CALNAME:EarlyON Programs
BEGIN:VEVENT
UID:30107
DTSTART;VALUE=DATE:20260527T133000
DTEND;VALUE=DATE:20260527T150000
DTSTAMP:20260421T021824Z
LOCATION:EarlyON at Chandler Mowat Community Centre
DESCRIPTION:How Does Learning Happen? Through Play! Join other children, caring ad
SUMMARY:EarlyON at Chandler-Mowat Community Centre &#8211\; Drop-In
ORGANIZER:EarlyON at Chandler Mowat Community Centre
STATUS:CONFIRMED
TRANSP:OPAQUE
END:VEVENT
END:VCALENDAR
