BEGIN:VCALENDAR
VERSION:2.0
PRODID:-//EarlyON Child and Family Centre
 //NONSGML Events //EN
CALSCALE:GREGORIAN
X-WR-CALNAME:EarlyON Programs
BEGIN:VEVENT
UID:30103
DTSTART;VALUE=DATE:20260512T100000
DTEND;VALUE=DATE:20260512T110000
DTSTAMP:20260425T221836Z
LOCATION:EarlyON Online with Zoom
DESCRIPTION:Building a strong attachment with your infant is one of the building b
SUMMARY:EarlyON Online &#8211\; Infant Massage
ORGANIZER:EarlyON Online with Zoom
STATUS:CONFIRMED
TRANSP:OPAQUE
END:VEVENT
BEGIN:VEVENT
UID:30103
DTSTART;VALUE=DATE:20260519T100000
DTEND;VALUE=DATE:20260519T110000
DTSTAMP:20260425T221836Z
LOCATION:EarlyON Online with Zoom
DESCRIPTION:Building a strong attachment with your infant is one of the building b
SUMMARY:EarlyON Online &#8211\; Infant Massage
ORGANIZER:EarlyON Online with Zoom
STATUS:CONFIRMED
TRANSP:OPAQUE
END:VEVENT
BEGIN:VEVENT
UID:30103
DTSTART;VALUE=DATE:20260526T100000
DTEND;VALUE=DATE:20260526T110000
DTSTAMP:20260425T221836Z
LOCATION:EarlyON Online with Zoom
DESCRIPTION:Building a strong attachment with your infant is one of the building b
SUMMARY:EarlyON Online &#8211\; Infant Massage
ORGANIZER:EarlyON Online with Zoom
STATUS:CONFIRMED
TRANSP:OPAQUE
END:VEVENT
BEGIN:VEVENT
UID:30103
DTSTART;VALUE=DATE:20260602T100000
DTEND;VALUE=DATE:20260602T110000
DTSTAMP:20260425T221836Z
LOCATION:EarlyON Online with Zoom
DESCRIPTION:Building a strong attachment with your infant is one of the building b
SUMMARY:EarlyON Online &#8211\; Infant Massage
ORGANIZER:EarlyON Online with Zoom
STATUS:CONFIRMED
TRANSP:OPAQUE
END:VEVENT
BEGIN:VEVENT
UID:30103
DTSTART;VALUE=DATE:20260609T100000
DTEND;VALUE=DATE:20260609T110000
DTSTAMP:20260425T221836Z
LOCATION:EarlyON Online with Zoom
DESCRIPTION:Building a strong attachment with your infant is one of the building b
SUMMARY:EarlyON Online &#8211\; Infant Massage
ORGANIZER:EarlyON Online with Zoom
STATUS:CONFIRMED
TRANSP:OPAQUE
END:VEVENT
BEGIN:VEVENT
UID:30103
DTSTART;VALUE=DATE:20260616T100000
DTEND;VALUE=DATE:20260616T110000
DTSTAMP:20260425T221836Z
LOCATION:EarlyON Online with Zoom
DESCRIPTION:Building a strong attachment with your infant is one of the building b
SUMMARY:EarlyON Online &#8211\; Infant Massage
ORGANIZER:EarlyON Online with Zoom
STATUS:CONFIRMED
TRANSP:OPAQUE
END:VEVENT
END:VCALENDAR
