BEGIN:VCALENDAR
VERSION:2.0
PRODID:-//EarlyON Child and Family Centre
 //NONSGML Events //EN
CALSCALE:GREGORIAN
X-WR-CALNAME:EarlyON Programs
BEGIN:VEVENT
UID:30102
DTSTART;VALUE=DATE:20260525T140000
DTEND;VALUE=DATE:20260525T153000
DTSTAMP:20260426T024601Z
LOCATION:EarlyON Online with Zoom
DESCRIPTION:Region of Waterloo Public Health and Emergency Services and the EarlyO
SUMMARY:EarlyON Online &#8211\; Sleep and Your New Baby
ORGANIZER:EarlyON Online with Zoom
STATUS:CONFIRMED
TRANSP:OPAQUE
END:VEVENT
END:VCALENDAR
