BEGIN:VCALENDAR
VERSION:2.0
PRODID:-//EarlyON Child and Family Centre
 //NONSGML Events //EN
CALSCALE:GREGORIAN
X-WR-CALNAME:EarlyON Programs
BEGIN:VEVENT
UID:30067
DTSTART;VALUE=DATE:20260505T133000
DTEND;VALUE=DATE:20260505T143000
DTSTAMP:20260426T025940Z
LOCATION:EarlyON | Roger Street
DESCRIPTION:Building a strong attachment with your infant is one of the building b
SUMMARY:EarlyON I Roger Street &#8211\; Infant Massage
ORGANIZER:EarlyON | Roger Street
STATUS:CONFIRMED
TRANSP:OPAQUE
END:VEVENT
BEGIN:VEVENT
UID:30067
DTSTART;VALUE=DATE:20260512T133000
DTEND;VALUE=DATE:20260512T143000
DTSTAMP:20260426T025940Z
LOCATION:EarlyON | Roger Street
DESCRIPTION:Building a strong attachment with your infant is one of the building b
SUMMARY:EarlyON I Roger Street &#8211\; Infant Massage
ORGANIZER:EarlyON | Roger Street
STATUS:CONFIRMED
TRANSP:OPAQUE
END:VEVENT
BEGIN:VEVENT
UID:30067
DTSTART;VALUE=DATE:20260519T133000
DTEND;VALUE=DATE:20260519T143000
DTSTAMP:20260426T025940Z
LOCATION:EarlyON | Roger Street
DESCRIPTION:Building a strong attachment with your infant is one of the building b
SUMMARY:EarlyON I Roger Street &#8211\; Infant Massage
ORGANIZER:EarlyON | Roger Street
STATUS:CONFIRMED
TRANSP:OPAQUE
END:VEVENT
BEGIN:VEVENT
UID:30067
DTSTART;VALUE=DATE:20260526T133000
DTEND;VALUE=DATE:20260526T143000
DTSTAMP:20260426T025940Z
LOCATION:EarlyON | Roger Street
DESCRIPTION:Building a strong attachment with your infant is one of the building b
SUMMARY:EarlyON I Roger Street &#8211\; Infant Massage
ORGANIZER:EarlyON | Roger Street
STATUS:CONFIRMED
TRANSP:OPAQUE
END:VEVENT
BEGIN:VEVENT
UID:30067
DTSTART;VALUE=DATE:20260602T133000
DTEND;VALUE=DATE:20260602T143000
DTSTAMP:20260426T025940Z
LOCATION:EarlyON | Roger Street
DESCRIPTION:Building a strong attachment with your infant is one of the building b
SUMMARY:EarlyON I Roger Street &#8211\; Infant Massage
ORGANIZER:EarlyON | Roger Street
STATUS:CONFIRMED
TRANSP:OPAQUE
END:VEVENT
BEGIN:VEVENT
UID:30067
DTSTART;VALUE=DATE:20260609T133000
DTEND;VALUE=DATE:20260609T143000
DTSTAMP:20260426T025940Z
LOCATION:EarlyON | Roger Street
DESCRIPTION:Building a strong attachment with your infant is one of the building b
SUMMARY:EarlyON I Roger Street &#8211\; Infant Massage
ORGANIZER:EarlyON | Roger Street
STATUS:CONFIRMED
TRANSP:OPAQUE
END:VEVENT
END:VCALENDAR
