BEGIN:VCALENDAR
VERSION:2.0
PRODID:-//EarlyON Child and Family Centre
 //NONSGML Events //EN
CALSCALE:GREGORIAN
X-WR-CALNAME:EarlyON Programs
BEGIN:VEVENT
UID:29982
DTSTART;VALUE=DATE:20260530T123000
DTEND;VALUE=DATE:20260530T133000
DTSTAMP:20260424T223532Z
LOCATION:EarlyON | Oak Creek
DESCRIPTION:Venez Jouer et Chanter est un programme entièrement en français pour
SUMMARY:EarlyON | Oak Creek &#8211\; Venez Jouer et Chanter
ORGANIZER:EarlyON | Oak Creek
STATUS:CONFIRMED
TRANSP:OPAQUE
END:VEVENT
END:VCALENDAR
