BEGIN:VCALENDAR
VERSION:2.0
PRODID:-//EarlyON Child and Family Centre
 //NONSGML Events //EN
CALSCALE:GREGORIAN
X-WR-CALNAME:EarlyON Programs
BEGIN:VEVENT
UID:29978
DTSTART;VALUE=DATE:20260508T103000
DTEND;VALUE=DATE:20260508T113000
DTSTAMP:20260421T095833Z
LOCATION:EarlyON | Oak Creek
DESCRIPTION:Encouraging physical activity supports your family in making healthy l
SUMMARY:EarlyON I Oak Creek &#8211\; Run\, Jump\, Climb!
ORGANIZER:EarlyON | Oak Creek
STATUS:CONFIRMED
TRANSP:OPAQUE
END:VEVENT
END:VCALENDAR
