BEGIN:VCALENDAR
VERSION:2.0
PRODID:-//EarlyON Child and Family Centre
 //NONSGML Events //EN
CALSCALE:GREGORIAN
X-WR-CALNAME:EarlyON Programs
BEGIN:VEVENT
UID:29853
DTSTART;VALUE=DATE:20260514T133000
DTEND;VALUE=DATE:20260514T143000
DTSTAMP:20260425T172141Z
LOCATION:EarlyON | Riverside
DESCRIPTION:Building a strong attachment with your infant is one of the building b
SUMMARY:EarlyON I Riverside &#8211\; Infant Massage
ORGANIZER:EarlyON | Riverside
STATUS:CONFIRMED
TRANSP:OPAQUE
END:VEVENT
BEGIN:VEVENT
UID:29853
DTSTART;VALUE=DATE:20260521T133000
DTEND;VALUE=DATE:20260521T143000
DTSTAMP:20260425T172141Z
LOCATION:EarlyON | Riverside
DESCRIPTION:Building a strong attachment with your infant is one of the building b
SUMMARY:EarlyON I Riverside &#8211\; Infant Massage
ORGANIZER:EarlyON | Riverside
STATUS:CONFIRMED
TRANSP:OPAQUE
END:VEVENT
BEGIN:VEVENT
UID:29853
DTSTART;VALUE=DATE:20260528T133000
DTEND;VALUE=DATE:20260528T143000
DTSTAMP:20260425T172141Z
LOCATION:EarlyON | Riverside
DESCRIPTION:Building a strong attachment with your infant is one of the building b
SUMMARY:EarlyON I Riverside &#8211\; Infant Massage
ORGANIZER:EarlyON | Riverside
STATUS:CONFIRMED
TRANSP:OPAQUE
END:VEVENT
BEGIN:VEVENT
UID:29853
DTSTART;VALUE=DATE:20260604T133000
DTEND;VALUE=DATE:20260604T143000
DTSTAMP:20260425T172141Z
LOCATION:EarlyON | Riverside
DESCRIPTION:Building a strong attachment with your infant is one of the building b
SUMMARY:EarlyON I Riverside &#8211\; Infant Massage
ORGANIZER:EarlyON | Riverside
STATUS:CONFIRMED
TRANSP:OPAQUE
END:VEVENT
BEGIN:VEVENT
UID:29853
DTSTART;VALUE=DATE:20260611T133000
DTEND;VALUE=DATE:20260611T143000
DTSTAMP:20260425T172141Z
LOCATION:EarlyON | Riverside
DESCRIPTION:Building a strong attachment with your infant is one of the building b
SUMMARY:EarlyON I Riverside &#8211\; Infant Massage
ORGANIZER:EarlyON | Riverside
STATUS:CONFIRMED
TRANSP:OPAQUE
END:VEVENT
BEGIN:VEVENT
UID:29853
DTSTART;VALUE=DATE:20260618T133000
DTEND;VALUE=DATE:20260618T143000
DTSTAMP:20260425T172141Z
LOCATION:EarlyON | Riverside
DESCRIPTION:Building a strong attachment with your infant is one of the building b
SUMMARY:EarlyON I Riverside &#8211\; Infant Massage
ORGANIZER:EarlyON | Riverside
STATUS:CONFIRMED
TRANSP:OPAQUE
END:VEVENT
END:VCALENDAR
