BEGIN:VCALENDAR
VERSION:2.0
PRODID:-//EarlyON Child and Family Centre
 //NONSGML Events //EN
CALSCALE:GREGORIAN
X-WR-CALNAME:EarlyON Programs
BEGIN:VEVENT
UID:29799
DTSTART;VALUE=DATE:20260528T143000
DTEND;VALUE=DATE:20260528T153000
DTSTAMP:20260425T233808Z
LOCATION:EarlyON | St. Boniface
DESCRIPTION:Children will explore, play and learn with other children and educator
SUMMARY:EarlyON I St. Boniface &#8211\; Starting School
ORGANIZER:EarlyON | St. Boniface
STATUS:CONFIRMED
TRANSP:OPAQUE
END:VEVENT
BEGIN:VEVENT
UID:29799
DTSTART;VALUE=DATE:20260604T143000
DTEND;VALUE=DATE:20260604T153000
DTSTAMP:20260425T233808Z
LOCATION:EarlyON | St. Boniface
DESCRIPTION:Children will explore, play and learn with other children and educator
SUMMARY:EarlyON I St. Boniface &#8211\; Starting School
ORGANIZER:EarlyON | St. Boniface
STATUS:CONFIRMED
TRANSP:OPAQUE
END:VEVENT
BEGIN:VEVENT
UID:29799
DTSTART;VALUE=DATE:20260611T143000
DTEND;VALUE=DATE:20260611T153000
DTSTAMP:20260425T233808Z
LOCATION:EarlyON | St. Boniface
DESCRIPTION:Children will explore, play and learn with other children and educator
SUMMARY:EarlyON I St. Boniface &#8211\; Starting School
ORGANIZER:EarlyON | St. Boniface
STATUS:CONFIRMED
TRANSP:OPAQUE
END:VEVENT
BEGIN:VEVENT
UID:29799
DTSTART;VALUE=DATE:20260618T143000
DTEND;VALUE=DATE:20260618T153000
DTSTAMP:20260425T233808Z
LOCATION:EarlyON | St. Boniface
DESCRIPTION:Children will explore, play and learn with other children and educator
SUMMARY:EarlyON I St. Boniface &#8211\; Starting School
ORGANIZER:EarlyON | St. Boniface
STATUS:CONFIRMED
TRANSP:OPAQUE
END:VEVENT
END:VCALENDAR
