BEGIN:VCALENDAR
VERSION:2.0
PRODID:-//EarlyON Child and Family Centre
 //NONSGML Events //EN
CALSCALE:GREGORIAN
X-WR-CALNAME:EarlyON Programs
BEGIN:VEVENT
UID:29796
DTSTART;VALUE=DATE:20260519T143000
DTEND;VALUE=DATE:20260519T153000
DTSTAMP:20260425T171601Z
LOCATION:EarlyON | St. Boniface
DESCRIPTION:Building a strong attachment with your infant is one of the building b
SUMMARY:EarlyON I St. Boniface &#8211\; Infant Massage
ORGANIZER:EarlyON | St. Boniface
STATUS:CONFIRMED
TRANSP:OPAQUE
END:VEVENT
BEGIN:VEVENT
UID:29796
DTSTART;VALUE=DATE:20260526T143000
DTEND;VALUE=DATE:20260526T153000
DTSTAMP:20260425T171601Z
LOCATION:EarlyON | St. Boniface
DESCRIPTION:Building a strong attachment with your infant is one of the building b
SUMMARY:EarlyON I St. Boniface &#8211\; Infant Massage
ORGANIZER:EarlyON | St. Boniface
STATUS:CONFIRMED
TRANSP:OPAQUE
END:VEVENT
BEGIN:VEVENT
UID:29796
DTSTART;VALUE=DATE:20260602T143000
DTEND;VALUE=DATE:20260602T153000
DTSTAMP:20260425T171601Z
LOCATION:EarlyON | St. Boniface
DESCRIPTION:Building a strong attachment with your infant is one of the building b
SUMMARY:EarlyON I St. Boniface &#8211\; Infant Massage
ORGANIZER:EarlyON | St. Boniface
STATUS:CONFIRMED
TRANSP:OPAQUE
END:VEVENT
BEGIN:VEVENT
UID:29796
DTSTART;VALUE=DATE:20260609T143000
DTEND;VALUE=DATE:20260609T153000
DTSTAMP:20260425T171601Z
LOCATION:EarlyON | St. Boniface
DESCRIPTION:Building a strong attachment with your infant is one of the building b
SUMMARY:EarlyON I St. Boniface &#8211\; Infant Massage
ORGANIZER:EarlyON | St. Boniface
STATUS:CONFIRMED
TRANSP:OPAQUE
END:VEVENT
BEGIN:VEVENT
UID:29796
DTSTART;VALUE=DATE:20260616T143000
DTEND;VALUE=DATE:20260616T153000
DTSTAMP:20260425T171601Z
LOCATION:EarlyON | St. Boniface
DESCRIPTION:Building a strong attachment with your infant is one of the building b
SUMMARY:EarlyON I St. Boniface &#8211\; Infant Massage
ORGANIZER:EarlyON | St. Boniface
STATUS:CONFIRMED
TRANSP:OPAQUE
END:VEVENT
BEGIN:VEVENT
UID:29796
DTSTART;VALUE=DATE:20260623T143000
DTEND;VALUE=DATE:20260623T153000
DTSTAMP:20260425T171601Z
LOCATION:EarlyON | St. Boniface
DESCRIPTION:Building a strong attachment with your infant is one of the building b
SUMMARY:EarlyON I St. Boniface &#8211\; Infant Massage
ORGANIZER:EarlyON | St. Boniface
STATUS:CONFIRMED
TRANSP:OPAQUE
END:VEVENT
END:VCALENDAR
