BEGIN:VCALENDAR
VERSION:2.0
PRODID:-//EarlyON Child and Family Centre
 //NONSGML Events //EN
CALSCALE:GREGORIAN
X-WR-CALNAME:EarlyON Programs
BEGIN:VEVENT
UID:29441
DTSTART;VALUE=DATE:20260430T140000
DTEND;VALUE=DATE:20260430T153000
DTSTAMP:20260422T092059Z
LOCATION:EarlyON | Cedar Creek
DESCRIPTION:Region of Waterloo Public Health and Emergency Services and the EarlyO
SUMMARY:EarlyON I Cedar Creek &#8211\; Sleep and Your New Baby
ORGANIZER:EarlyON | Cedar Creek
STATUS:CONFIRMED
TRANSP:OPAQUE
END:VEVENT
END:VCALENDAR
